BEGIN:VCALENDAR
VERSION:2.0
PRODID:-//BEAMS//EN
CALSCALE:GREGORIAN
METHOD:PUBLISH
BEGIN:VEVENT
UID:beams-conference-2026@beamsbibles.com
DTSTAMP:20251207T020000Z
DTSTART:20260224T010000Z
DTEND:20260225T033000Z
SUMMARY:National BEAMS Bible Conference
DESCRIPTION:National BEAMS Bible Conference (Feb 23–24, 2026, 7–9:30 PM)
LOCATION:Faith Baptist Church\n8467 Canal Road\nGulfport, MS 39503
END:VEVENT
END:VCALENDAR
